BEGIN:VCALENDAR
VERSION:2.0
PRODID:icalendar-ruby
CALSCALE:GREGORIAN
METHOD:PUBLISH
BEGIN:VEVENT
DTSTAMP:20260420T053347Z
UID:252-529200@arborheights.org
DTSTART:20260607T170000Z
DTEND:20260607T183000Z
CLASS:PUBLIC
CREATED:20260413T131339
DESCRIPTION:Youth Sunday is an opportunity for our church family to celebra
 te\, encourage and pray for the middle and high school students of AHCC. W
 e love the students of AHCC and want them to know how much we care about t
 hem. \nWe'll also be doing "Move Up" and "Graduation" Sunday where we wel
 come 5th grade students moving into our youth ministry and congratulate th
 ose graduating from high school. Don't miss an exciting day!
LAST-MODIFIED:20260413T131339
LOCATION:AHCC
SUMMARY:Youth Sunday
URL;VALUE=URI:https://www.arborheights.org/events/youth-sunday--252/2026-06
 -07
ATTACH;FILENAME=Youth Sunday 2026.jpg;FMTTYPE=image/jpeg:https://dq5pwpg1q8
 ru0.cloudfront.net/2026/04/13/20/13/39/4a1fb57c-074f-4b46-a7d6-01420f3bcb8
 b/Youth%20Sunday%202026.jpg
END:VEVENT
END:VCALENDAR
