BEGIN:VCALENDAR
VERSION:2.0
PRODID:icalendar-ruby
CALSCALE:GREGORIAN
METHOD:PUBLISH
BEGIN:VEVENT
DTSTAMP:20260423T025849Z
UID:66-552026@arborheights.org
DTSTART:20261001T013000Z
DTEND:20261001T033000Z
CLASS:PUBLIC
CREATED:20260422T185349
DESCRIPTION:Youth Group meets 6:30 pm to 8:30 pm every Wednesday!  We hang
  out\, eat snacks\, play games\, and dig into scripture together.  All 6t
 h to 12th graders welcome!
LAST-MODIFIED:20260422T185349
LOCATION:
SUMMARY:Youth Group
URL;VALUE=URI:https://www.arborheights.org/events/youth-group/2026-09-30
ATTACH;FILENAME=Youth Group Graphic for Website.jpg;FMTTYPE=image/jpeg:http
 s://dq5pwpg1q8ru0.cloudfront.net/2023/11/20/12/25/19/e783a34b-89d5-4af2-9c
 70-a0bb41f48005/Youth%20Group%20Graphic%20for%20Website.jpg
END:VEVENT
END:VCALENDAR
