BEGIN:VCALENDAR
VERSION:2.0
PRODID:icalendar-ruby
CALSCALE:GREGORIAN
METHOD:PUBLISH
BEGIN:VEVENT
DTSTAMP:20260420T042741Z
UID:251-498164@arborheights.org
DTSTART:20260516T180000Z
DTEND:20260516T200000Z
CLASS:PUBLIC
CREATED:20260331T164838
DESCRIPTION:Spring is here! Join other women of the church on Saturday\, Ma
 y 16th from 11:00 am to 1:00 pm for lunch and a chance to connect with oth
 ers. No need to register\; just show up and enjoy some great food and conn
 ection!
LAST-MODIFIED:20260331T164838
LOCATION:AHCC
SUMMARY:Women's Gathering 
URL;VALUE=URI:https://www.arborheights.org/events/womens-gathering/2026-05-
 16
ATTACH;FILENAME=Womens Gathering Spring Lunch Graphic 2026.jpg;FMTTYPE=imag
 e/jpeg:https://dq5pwpg1q8ru0.cloudfront.net/2026/03/31/23/48/38/19c0c5bd-4
 b2a-4cd1-8207-db9aed1cfce5/Womens%20Gathering%20Spring%20Lunch%20Graphic%2
 02026.jpg
END:VEVENT
END:VCALENDAR
