BEGIN:VCALENDAR
VERSION:2.0
PRODID:icalendar-ruby
CALSCALE:GREGORIAN
METHOD:PUBLISH
BEGIN:VEVENT
DTSTAMP:20260419T234517Z
UID:247-467149@arborheights.org
DTSTART:20260426T183000Z
DTEND:20260426T200000Z
CLASS:PUBLIC
CREATED:20260318T210733
DESCRIPTION:It's time for Munch &amp\; Mingle! Join us Sunday\, April 26th 
 right after our morning service as we gather for lunch and a chance to con
 nect with others. 
LAST-MODIFIED:20260318T210733
LOCATION:AHCC
SUMMARY:Munch & Mingle
URL;VALUE=URI:https://www.arborheights.org/events/munch-mingle--247/2026-04
 -26
ATTACH;FILENAME=Munch and Mingle Graphic 4_26_26.jpg;FMTTYPE=image/jpeg:htt
 ps://dq5pwpg1q8ru0.cloudfront.net/2026/03/19/04/07/33/537ad017-3df6-469b-a
 029-33c83a778ec7/Munch%20and%20Mingle%20Graphic%204_26_26.jpg
END:VEVENT
END:VCALENDAR
