BEGIN:VCALENDAR
VERSION:2.0
PRODID:icalendar-ruby
CALSCALE:GREGORIAN
METHOD:PUBLISH
BEGIN:VEVENT
DTSTAMP:20260420T044902Z
UID:248-467150@arborheights.org
DTSTART:20260510T170000Z
DTEND:20260510T183000Z
CLASS:PUBLIC
CREATED:20260318T213507
DESCRIPTION:We're excited to celebrate moms\, aunts\, grandmas and motherly
  figures on Sunday\, May 10th for Mother's Day. We'll take a moment during
  our morning gathering to pray for moms and thank them for their love\, sa
 crifice and commitment. We'll also have some special treats to say "Thanks
 !" 
LAST-MODIFIED:20260318T213507
LOCATION:AHCC
SUMMARY:Mother's Day
URL;VALUE=URI:https://www.arborheights.org/events/mothers-day--248/2026-05-
 10
ATTACH;FILENAME=Mothers Day Graphic 5_10_26.jpg;FMTTYPE=image/jpeg:https://
 dq5pwpg1q8ru0.cloudfront.net/2026/03/19/04/35/07/5206ae6b-9915-4fce-8640-3
 59158c4df0f/Mothers%20Day%20Graphic%205_10_26.jpg
END:VEVENT
END:VCALENDAR
