BEGIN:VCALENDAR
VERSION:2.0
PRODID:icalendar-ruby
CALSCALE:GREGORIAN
METHOD:PUBLISH
BEGIN:VEVENT
DTSTAMP:20260419T231935Z
UID:246-464385@arborheights.org
DTSTART:20260501T020000Z
DTEND:20260501T030000Z
CLASS:PUBLIC
CREATED:20260317T150232
DESCRIPTION:What is prayer? What is the church? How do we reconcile a good 
 and powerful God with evil and suffering? Great questions! Join us this sp
 ring for our Foundations Course as we take a deeper look at these question
 s and how the Christian faith responds to them. This is a great course if 
 you're a new Christian\, open to Christianity or wanting to grow deeper in
  your faith. The course runs for three Thursdays in a row on Zoom starting
  April 30th. Sign up below to get started!
LAST-MODIFIED:20260317T150232
LOCATION:AHCC
SUMMARY:Foundations | Part 3
URL;VALUE=URI:https://www.arborheights.org/events/foundations-part-3/2026-0
 4-30
ATTACH;FILENAME=Foundations Course Graphic Spring 2026.jpg;FMTTYPE=image/jp
 eg:https://dq5pwpg1q8ru0.cloudfront.net/2026/03/14/04/45/21/6ca78c56-27f2-
 4a5f-8207-b74e787d530b/Foundations%20Course%20Graphic%20Spring%202026.jpg
END:VEVENT
END:VCALENDAR
