BEGIN:VCALENDAR
VERSION:2.0
PRODID:icalendar-ruby
CALSCALE:GREGORIAN
METHOD:PUBLISH
BEGIN:VEVENT
DTSTAMP:20260420T002458Z
UID:214-465966@arborheights.org
DTSTART:20260503T170000Z
DTEND:20260503T183000Z
CLASS:PUBLIC
CREATED:20260318T113144
DESCRIPTION:Children are a gift from God and an incredible blessing. We lov
 e kids at AHCC! Dedicating our kids to God\, and committing to raise them 
 in the ways of Jesus\, are important milestones in a child and parent's li
 fe. Are you wanting to learn more about dedicating your child this spring?
  Or ready to take this next step? Contact our Children's &amp\; Family Min
 istry Director Breann Wilson at breann@arborheights.org to get started. 
LAST-MODIFIED:20260318T113144
LOCATION:AHCC
SUMMARY:Child Dedication Sunday
URL;VALUE=URI:https://www.arborheights.org/events/child-dedication-sunday--
 214/2026-05-03
ATTACH;FILENAME=Child Dedication Graphic 5_3_26.jpg;FMTTYPE=image/jpeg:http
 s://dq5pwpg1q8ru0.cloudfront.net/2026/03/18/18/28/27/757eede1-c008-4380-8b
 9d-3808b758985f/Child%20Dedication%20Graphic%205_3_26.jpg
END:VEVENT
END:VCALENDAR
