BEGIN:VCALENDAR
VERSION:2.0
PRODID:icalendar-ruby
CALSCALE:GREGORIAN
METHOD:PUBLISH
BEGIN:VEVENT
DTSTAMP:20260419T230509Z
UID:250-485785@arborheights.org
DTSTART:20260425T160000Z
DTEND:20260425T190000Z
CLASS:PUBLIC
CREATED:20260326T134626
DESCRIPTION:Spring is here! Join us Saturday\, April 25th anytime between 9
 :00 am and 12:00 pm to help cleanup ARK Park. The Park has been an incredi
 ble blessing to our community and a great place for connection\, laughter 
 and fun. During the cleanup we'll be staining structures\, weeding\, refre
 shing bark and more. No need to bring anything except a willingness to get
  your hands dirty. See you then!
LAST-MODIFIED:20260326T134626
LOCATION:ARK Park
SUMMARY:ARK Park Cleanup Day
URL;VALUE=URI:https://www.arborheights.org/events/ark-park-cleanup-day--250
 /2026-04-25
ATTACH;FILENAME=ARK Park Cleanup Day Graphic 2026.png;FMTTYPE=image/png:htt
 ps://dq5pwpg1q8ru0.cloudfront.net/2026/03/26/20/46/26/ddf668ae-f858-47cc-b
 439-cf29fedeca5c/ARK%20Park%20Cleanup%20Day%20Graphic%202026.png
END:VEVENT
END:VCALENDAR
